BEGIN:VCALENDAR
VERSION:2.0
PRODID:icalendar-ruby
CALSCALE:GREGORIAN
BEGIN:VEVENT
DTSTAMP:20260422T225247Z
UID:3ae5e8fb-2340-4eb2-957c-91604a052501
DTSTART;VALUE=DATE:20200409
DESCRIPTION:Property ID# 476386\, Locatoin: 471 Papanui Road\, Papanui\, Un
 less Sold Prior\, Time: 10:00AM
SUMMARY:Auction for 
END:VEVENT
END:VCALENDAR
