BEGIN:VCALENDAR
VERSION:2.0
PRODID:icalendar-ruby
CALSCALE:GREGORIAN
BEGIN:VEVENT
DTSTAMP:20260422T230142Z
UID:88b3cc72-4572-4b37-bdb7-62396e40fc3e
DTSTART;VALUE=DATE:20200806
DESCRIPTION:Property ID# 485059\, Locatoin: 471 Papanui Road\, Papanui\, Ti
 me: 10:00AM
SUMMARY:Auction for 
END:VEVENT
END:VCALENDAR
