BEGIN:VCALENDAR
VERSION:2.0
PRODID:icalendar-ruby
CALSCALE:GREGORIAN
BEGIN:VEVENT
DTSTAMP:20260420T213842Z
UID:c45a1a27-fa93-4f13-81dc-6430e1985a86
DTSTART;VALUE=DATE:20210304
DESCRIPTION:Property ID# 501456\, Locatoin: Harcourts Grenadier\, 98 Moorho
 use Avenue\, Time: 12:00PM
SUMMARY:Auction for 
END:VEVENT
END:VCALENDAR
