BEGIN:VCALENDAR
VERSION:2.0
PRODID:icalendar-ruby
CALSCALE:GREGORIAN
BEGIN:VEVENT
DTSTAMP:20260422T225502Z
UID:1ede2783-a56f-423e-bd1b-ff0dc16e8a9c
DTSTART;VALUE=DATE:20210311
DESCRIPTION:Property ID# 502111\, Locatoin: Gold Auction Rooms\, 471 Papanu
 i Road\, Christchurch\, Time: 10:00AM
SUMMARY:Auction for 
END:VEVENT
END:VCALENDAR
