BEGIN:VCALENDAR
VERSION:2.0
PRODID:icalendar-ruby
CALSCALE:GREGORIAN
BEGIN:VEVENT
DTSTAMP:20260422T230539Z
UID:4f5c521b-3a6e-4e43-8f18-0c071b47cbfd
DTSTART;VALUE=DATE:20210318
DESCRIPTION:Property ID# 502549\, Locatoin: Gold Auction Rooms\, 471 Papanu
 i Road\, Christchurch\, Time: 10:00AM
SUMMARY:Auction for 
END:VEVENT
END:VCALENDAR
