BEGIN:VCALENDAR
VERSION:2.0
PRODID:icalendar-ruby
CALSCALE:GREGORIAN
BEGIN:VEVENT
DTSTAMP:20260420T193008Z
UID:23fb26a3-05f2-432d-bd24-8538b7e49340
DTSTART;VALUE=DATE:20210401
DESCRIPTION:Property ID# 504187\, Locatoin: 98 Moorhouse Ave\, Chch CBD Unl
 ess Sold Prior\, Time: 12:00PM
SUMMARY:Auction for 
END:VEVENT
END:VCALENDAR
