BEGIN:VCALENDAR
VERSION:2.0
PRODID:icalendar-ruby
CALSCALE:GREGORIAN
BEGIN:VEVENT
DTSTAMP:20260422T230443Z
UID:db3d795a-4b9c-4001-a4d3-cd760e579c31
DTSTART;VALUE=DATE:20210513
DESCRIPTION:Property ID# 507734\, Locatoin: Gold Auction Rooms\, 471 Papanu
 i Road\, Christchurch\, Time: 10:00AM
SUMMARY:Auction for 
END:VEVENT
END:VCALENDAR
