BEGIN:VCALENDAR
VERSION:2.0
PRODID:icalendar-ruby
CALSCALE:GREGORIAN
BEGIN:VEVENT
DTSTAMP:20260424T010046Z
UID:0c5246e7-92b7-4423-a0e2-c08eaf1c8c42
DTSTART;VALUE=DATE:20210907
DESCRIPTION:Property ID# 516002\, Locatoin: 98 Moorhouse Ave\, if Level Two
 \, On Zoom if Level Three.\, Time: 4:00PM
SUMMARY:Auction for 
END:VEVENT
END:VCALENDAR
