BEGIN:VCALENDAR
VERSION:2.0
PRODID:icalendar-ruby
CALSCALE:GREGORIAN
BEGIN:VEVENT
DTSTAMP:20260422T225747Z
UID:ed0aedb3-65bc-45cb-b5c7-086e4850c1b5
DTSTART;VALUE=DATE:20211221
DESCRIPTION:Property ID# 524652\, Locatoin: Gold Auction Rooms\, 471 Papanu
 i Road\, Christchurch (Unless sold prior)\, Time: 10:00AM
SUMMARY:Auction for 
END:VEVENT
END:VCALENDAR
