BEGIN:VCALENDAR
VERSION:2.0
PRODID:icalendar-ruby
CALSCALE:GREGORIAN
BEGIN:VEVENT
DTSTAMP:20260422T225247Z
UID:4ec1ff59-3bc5-40ee-b4e4-806d427b57ec
DTSTART;VALUE=DATE:20220818
DESCRIPTION:Property ID# 540580\, Locatoin: Gold Auction Rooms\, 471 Papanu
 i Road\, Christchurch (Unless sold prior)\, Time: 10:00AM
SUMMARY:Auction for 
END:VEVENT
END:VCALENDAR
