BEGIN:VCALENDAR
VERSION:2.0
PRODID:icalendar-ruby
CALSCALE:GREGORIAN
BEGIN:VEVENT
DTSTAMP:20260421T125728Z
UID:bbb245f7-feb5-4e53-8332-7a9a541e3476
DTSTART;VALUE=DATE:20231012
DESCRIPTION:Property ID# 563033\, Locatoin: Harcourts Grenadier 98 Moorhous
 e Avenue \, Time: 11:00AM
SUMMARY:Auction for 
END:VEVENT
END:VCALENDAR
