BEGIN:VCALENDAR
VERSION:2.0
PRODID:icalendar-ruby
CALSCALE:GREGORIAN
BEGIN:VEVENT
DTSTAMP:20260421T125225Z
UID:d91b359e-88ae-4b88-b954-1adb0324f3b6
DTSTART;VALUE=DATE:20240328
DESCRIPTION:Property ID# 571760\, Time: 11:00AM
SUMMARY:Auction for 
END:VEVENT
END:VCALENDAR
