BEGIN:VCALENDAR
VERSION:2.0
PRODID:icalendar-ruby
CALSCALE:GREGORIAN
BEGIN:VEVENT
DTSTAMP:20260423T082904Z
UID:96944e49-ca63-4b57-892b-9eae80d60b2f
DTSTART;VALUE=DATE:20240509
DESCRIPTION:Property ID# 573410\, Locatoin: Harcourts Grenadier 98 Moorhous
 e Avenue\, Time: 11:00AM
SUMMARY:Auction for 
END:VEVENT
END:VCALENDAR
