BEGIN:VCALENDAR
VERSION:2.0
PRODID:icalendar-ruby
CALSCALE:GREGORIAN
BEGIN:VEVENT
DTSTAMP:20260424T064437Z
UID:0b35dda6-f258-469c-bba4-b5ba6284020b
DTSTART;VALUE=DATE:20250304
DESCRIPTION:Property ID# 587757\, Time: 4:00PM
SUMMARY:Auction for 
END:VEVENT
END:VCALENDAR
