BEGIN:VCALENDAR
VERSION:2.0
PRODID:icalendar-ruby
CALSCALE:GREGORIAN
BEGIN:VEVENT
DTSTAMP:20260424T045611Z
UID:8aac6ab3-e3a7-4e61-aae9-dd68a871103d
DTSTART;VALUE=DATE:20250827
DESCRIPTION:Property ID# 595669\, Time: 1:00PM
SUMMARY:Auction for 
END:VEVENT
END:VCALENDAR
