BEGIN:VCALENDAR
VERSION:2.0
PRODID:icalendar-ruby
CALSCALE:GREGORIAN
BEGIN:VEVENT
DTSTAMP:20260421T095300Z
UID:313c6324-2d7a-4438-8b1a-fa662a5b53b2
DTSTART;VALUE=DATE:20251002
DESCRIPTION:Property ID# 597207\, Locatoin: Harcourts Grenadier 98 Moorhous
 e Avenue\, Time: 11:00AM
SUMMARY:Auction for 
END:VEVENT
END:VCALENDAR
