BEGIN:VCALENDAR
VERSION:2.0
PRODID:icalendar-ruby
CALSCALE:GREGORIAN
BEGIN:VEVENT
DTSTAMP:20260421T140816Z
UID:545217de-04e7-4a05-90b7-5c749fc34136
DTSTART;VALUE=DATE:20251016
DESCRIPTION:Property ID# 597860\, Locatoin: Harcourts Grenadier 98 Moorhous
 e Avenue\, Time: 11:00AM
SUMMARY:Auction for 
END:VEVENT
END:VCALENDAR
