BEGIN:VCALENDAR
VERSION:2.0
PRODID:icalendar-ruby
CALSCALE:GREGORIAN
BEGIN:VEVENT
DTSTAMP:20260423T100912Z
UID:6ac5f2f6-54d2-4aa6-911d-9379c3f22234
DTSTART;VALUE=DATE:20251204
DESCRIPTION:Property ID# 600306\, Locatoin: 98 Moorhouse Avenue\, Time: 11:
 00AM
SUMMARY:Auction for 
END:VEVENT
END:VCALENDAR
