BEGIN:VCALENDAR
VERSION:2.0
PRODID:icalendar-ruby
CALSCALE:GREGORIAN
BEGIN:VEVENT
DTSTAMP:20260424T063111Z
UID:f7f89c6b-b0da-48c2-88d6-a7689857c29a
DTSTART;VALUE=DATE:20260216
DESCRIPTION:Property ID# 602496\, Time: 4:00PM
SUMMARY:Auction for 48 Acacia Avenue
END:VEVENT
END:VCALENDAR
