BEGIN:VCALENDAR
VERSION:2.0
PRODID:icalendar-ruby
CALSCALE:GREGORIAN
BEGIN:VEVENT
DTSTAMP:20260424T045959Z
UID:df881a4b-40b2-4b1b-9fc0-efdd6a758aac
DTSTART;VALUE=DATE:20260407
DESCRIPTION:Property ID# 605110\, Time: 12:00PM
SUMMARY:Auction for 21 Lewis Close
END:VEVENT
END:VCALENDAR
