BEGIN:VCALENDAR
VERSION:2.0
PRODID:icalendar-ruby
CALSCALE:GREGORIAN
BEGIN:VEVENT
DTSTAMP:20260424T045652Z
UID:61131738-24ca-4959-8370-d33d9e0206b7
DTSTART;VALUE=DATE:20260401
DESCRIPTION:Property ID# 605111\, Locatoin: 3 Deans Avenue\, Riccarton\, Ch
 ristchurch\, Time: 12:00PM
SUMMARY:Auction for 18 Elm Drive
END:VEVENT
END:VCALENDAR
