BEGIN:VCALENDAR
VERSION:2.0
PRODID:icalendar-ruby
CALSCALE:GREGORIAN
BEGIN:VEVENT
DTSTAMP:20260424T045629Z
UID:204c6d43-ca51-4b75-be30-7c2eedfcb178
DTSTART;VALUE=DATE:20260416
DESCRIPTION:Property ID# 605793\, Locatoin: 3 Deans Avenue\, Christchurch\,
  Time: 11:00AM
SUMMARY:Auction for 
END:VEVENT
END:VCALENDAR
