BEGIN:VCALENDAR
VERSION:2.0
PRODID:icalendar-ruby
CALSCALE:GREGORIAN
BEGIN:VEVENT
DTSTAMP:20260424T050323Z
UID:96dccf0e-6d6e-4b17-8143-3cbcf1aa03aa
DTSTART;VALUE=DATE:20260422
DESCRIPTION:Property ID# 605794\, Time: 1:00PM
SUMMARY:Auction for 79 Greens Road
END:VEVENT
END:VCALENDAR
