BEGIN:VCALENDAR
VERSION:2.0
PRODID:icalendar-ruby
CALSCALE:GREGORIAN
BEGIN:VEVENT
DTSTAMP:20260424T045953Z
UID:03505b9a-df3c-419b-b689-a9c0d32b02bd
DTSTART;VALUE=DATE:20260423
DESCRIPTION:Property ID# 606140\, Locatoin: 3 Deans Avenue\, Christchurch\,
  Time: 11:00AM
SUMMARY:Auction for 3 Roslyn Avenue
END:VEVENT
END:VCALENDAR
