BEGIN:VCALENDAR
VERSION:2.0
PRODID:icalendar-ruby
CALSCALE:GREGORIAN
BEGIN:VEVENT
DTSTAMP:20260425T144025Z
UID:7b626011-0094-4869-b824-ff2bbf9f136f
DTSTART;VALUE=DATE:20260507
DESCRIPTION:Property ID# 606448\, Locatoin: Harcourts Grenadier 98 Moorhous
 e Avenue \, Time: 11:00AM
SUMMARY:Auction for 2/180 Lyttelton Street
END:VEVENT
END:VCALENDAR
