BEGIN:VCALENDAR
VERSION:2.0
PRODID:icalendar-ruby
CALSCALE:GREGORIAN
BEGIN:VEVENT
DTSTAMP:20260420T231403Z
UID:9b2ba0ff-610d-463e-bc51-a0327c9a3aac
DTSTART;VALUE=DATE:20260507
DESCRIPTION:Property ID# 606860\, Locatoin: Harcourts Grenadier\, 98 Moorho
 use Avenue (unless sold prior)\, Time: 11:00AM
SUMMARY:Auction for 124B Glandovey Road
END:VEVENT
END:VCALENDAR
